BEGIN:VCALENDAR
VERSION:2.0
PRODID:-//Upcoop - ECPv6.15.18//NONSGML v1.0//EN
CALSCALE:GREGORIAN
METHOD:PUBLISH
X-WR-CALNAME:Upcoop
X-ORIGINAL-URL:https://up.coop
X-WR-CALDESC:Évènements pour Upcoop
REFRESH-INTERVAL;VALUE=DURATION:PT1H
X-Robots-Tag:noindex
X-PUBLISHED-TTL:PT1H
BEGIN:VTIMEZONE
TZID:Europe/Paris
BEGIN:DAYLIGHT
TZOFFSETFROM:+0100
TZOFFSETTO:+0200
TZNAME:CEST
DTSTART:20250330T010000
END:DAYLIGHT
BEGIN:STANDARD
TZOFFSETFROM:+0200
TZOFFSETTO:+0100
TZNAME:CET
DTSTART:20251026T010000
END:STANDARD
BEGIN:DAYLIGHT
TZOFFSETFROM:+0100
TZOFFSETTO:+0200
TZNAME:CEST
DTSTART:20260329T010000
END:DAYLIGHT
BEGIN:STANDARD
TZOFFSETFROM:+0200
TZOFFSETTO:+0100
TZNAME:CET
DTSTART:20261025T010000
END:STANDARD
BEGIN:DAYLIGHT
TZOFFSETFROM:+0100
TZOFFSETTO:+0200
TZNAME:CEST
DTSTART:20270328T010000
END:DAYLIGHT
BEGIN:STANDARD
TZOFFSETFROM:+0200
TZOFFSETTO:+0100
TZNAME:CET
DTSTART:20271031T010000
END:STANDARD
END:VTIMEZONE
BEGIN:VEVENT
DTSTART;TZID=Europe/Paris:20260324T090000
DTEND;TZID=Europe/Paris:20260325T173000
DTSTAMP:20260420T181311
CREATED:20251231T143246Z
LAST-MODIFIED:20251231T143246Z
UID:10000168-1774342800-1774459800@up.coop
SUMMARY:Salon Solutions CSE Lille
DESCRIPTION:Retrouvez-nous au Salon Solutions CSE à Lille\, le rendez-vous incontournable des élus et représentants du personnel. Venez découvrir nos services innovants pour les CSE\, échanger avec notre équipe et trouver des solutions adaptées à vos besoins : avantages sociaux\, billetterie\, loisirs\, bien-être et bien plus encore. \n\nProfitez de cette journée pour rencontrer des experts\, assister à des conférences et repartir avec des idées concrètes pour dynamiser votre CSE. \nEntrée gratuite et inscription recommandée.
URL:https://up.coop/agenda/salon-solutions-cse-lille/
LOCATION:Lille Grand Palais\, 1 Boulevard des Cités Unies\, Lille\, 59800
ATTACH;FMTTYPE=image/jpeg:https://up.coop/wp-content/uploads/Upcoop_Salons_CSE.jpg
END:VEVENT
END:VCALENDAR